BEGIN:VCALENDAR
VERSION:2.0
PRODID:-//Groupe Santé Colmar - ECPv6.15.20//NONSGML v1.0//EN
CALSCALE:GREGORIAN
METHOD:PUBLISH
X-ORIGINAL-URL:https://www.groupesantecolmar.net
X-WR-CALDESC:Évènements pour Groupe Santé Colmar
REFRESH-INTERVAL;VALUE=DURATION:PT1H
X-Robots-Tag:noindex
X-PUBLISHED-TTL:PT1H
BEGIN:VTIMEZONE
TZID:Europe/Paris
BEGIN:DAYLIGHT
TZOFFSETFROM:+0100
TZOFFSETTO:+0200
TZNAME:CEST
DTSTART:20240331T010000
END:DAYLIGHT
BEGIN:STANDARD
TZOFFSETFROM:+0200
TZOFFSETTO:+0100
TZNAME:CET
DTSTART:20241027T010000
END:STANDARD
BEGIN:DAYLIGHT
TZOFFSETFROM:+0100
TZOFFSETTO:+0200
TZNAME:CEST
DTSTART:20250330T010000
END:DAYLIGHT
BEGIN:STANDARD
TZOFFSETFROM:+0200
TZOFFSETTO:+0100
TZNAME:CET
DTSTART:20251026T010000
END:STANDARD
BEGIN:DAYLIGHT
TZOFFSETFROM:+0100
TZOFFSETTO:+0200
TZNAME:CEST
DTSTART:20260329T010000
END:DAYLIGHT
BEGIN:STANDARD
TZOFFSETFROM:+0200
TZOFFSETTO:+0100
TZNAME:CET
DTSTART:20261025T010000
END:STANDARD
END:VTIMEZONE
BEGIN:VEVENT
DTSTART;TZID=Europe/Paris:20250320T200000
DTEND;TZID=Europe/Paris:20250320T220000
DTSTAMP:20260425T141658
CREATED:20241106T191004Z
LAST-MODIFIED:20250225T123239Z
UID:6263-1742500800-1742508000@www.groupesantecolmar.net
SUMMARY:Conférence "Psychogénéalogie - Vos ancêtres vous parlent" par Agnès PAOLI
DESCRIPTION:Conférence « Psychogénéalogie – Vos ancêtres vous parlent »\npar Agnès PAOLI\n📢 Attention ! Changement du jour et du lieu de la conférence ! \nLa conférence aura lieu le 🟡JEUDI🟡 20 mars 2025 à 20h00 au 🟡Presbytère St Marc – 1 rue de la Forge 68000 Colmar🟡. \nAgnès PAOLI est diplômée de l’école des Hautes Études (Sorbonne) en Science de la Vie et de la Terre et de la Faculté des Sciences Sociales de l’Université de Strasbourg (Diplôme Universitaire d’anthropologie. Année universitaire 2015-2016). Passionnée de psychogénéalogie depuis 2002 elle anime des formations en psychogénéalogie et analyse transgénérationnelle depuis 2008 aux élèves de l’Institut Belge de Kinésiologie dans le cadre de leur formation professionnelle\, en Alsace et depuis 2009 à Lyon.\nPsychogénéalogiste de terrain\, elle a acquis ses compétences auprès d’un grand nombre d’enseignants et elle propose un enseignement pluridisciplinaire afin d’étudier la psychogénéalogie de manière ouverte et pragmatique. \nLa Conférence : \nÀ travers les dates et les prénoms de l’histoire familiale nos ancêtres nous adressent des messages\, des informations capitales\, issues de leurs expériences de vie. Des mots d’amour pour nous transmettre les codes et éviter les souffrances du passé.\nC’est une transmission de savoir. Un savoir qui appartient à un autre temps et emprunte les couloirs de l’inconscient familial. Un savoir qui traverse les générations et pose aujourd’hui des freins à notre épanouissement personnel.\nDécrypter ces messages permet de se libérer\, de libérer son clan et d’ouvrir la porte de l’amour et de l’abondance à la descendance. \nMais au fait\, qu’est-ce que la psychogénéalogie ? \nLa psychogénéalogie permettre d’expliquer pourquoi et comment un événement survenu avant notre naissance peut avoir un impact plus ou moins handicapant sur notre vie.\nLe but de cette transmission est de donner une information capitale à la génération suivante afin qu’elle soit au mieux adaptée à la difficulté existentielle rencontrée par la génération précédente. C’est une transmission de savoir. \n  \nEntrée : \n\n5 € pour les adhérents\n10 € pour les non adhérents
URL:https://www.groupesantecolmar.net/evenement/conference-psychogenealogie-vos-ancetres-vous-parlent-par-agnes-paoli/
CATEGORIES:Conférences
END:VEVENT
END:VCALENDAR