BEGIN:VCALENDAR
VERSION:2.0
PRODID:-//Groupe Santé Colmar - ECPv6.15.20//NONSGML v1.0//EN
CALSCALE:GREGORIAN
METHOD:PUBLISH
X-ORIGINAL-URL:https://www.groupesantecolmar.net
X-WR-CALDESC:Évènements pour Groupe Santé Colmar
REFRESH-INTERVAL;VALUE=DURATION:PT1H
X-Robots-Tag:noindex
X-PUBLISHED-TTL:PT1H
BEGIN:VTIMEZONE
TZID:Europe/Paris
BEGIN:DAYLIGHT
TZOFFSETFROM:+0100
TZOFFSETTO:+0200
TZNAME:CEST
DTSTART:20200329T010000
END:DAYLIGHT
BEGIN:STANDARD
TZOFFSETFROM:+0200
TZOFFSETTO:+0100
TZNAME:CET
DTSTART:20201025T010000
END:STANDARD
BEGIN:DAYLIGHT
TZOFFSETFROM:+0100
TZOFFSETTO:+0200
TZNAME:CEST
DTSTART:20210328T010000
END:DAYLIGHT
BEGIN:STANDARD
TZOFFSETFROM:+0200
TZOFFSETTO:+0100
TZNAME:CET
DTSTART:20211031T010000
END:STANDARD
BEGIN:DAYLIGHT
TZOFFSETFROM:+0100
TZOFFSETTO:+0200
TZNAME:CEST
DTSTART:20220327T010000
END:DAYLIGHT
BEGIN:STANDARD
TZOFFSETFROM:+0200
TZOFFSETTO:+0100
TZNAME:CET
DTSTART:20221030T010000
END:STANDARD
END:VTIMEZONE
BEGIN:VEVENT
DTSTART;TZID=Europe/Paris:20211119T200000
DTEND;TZID=Europe/Paris:20211119T220000
DTSTAMP:20260423T153834
CREATED:20211031T164406Z
LAST-MODIFIED:20211201T131058Z
UID:5666-1637352000-1637359200@www.groupesantecolmar.net
SUMMARY:Conférence "Les déséquilibres thyroïdiens" par Geneviève ROS
DESCRIPTION:Votre prochaine conférence Zoom le 19 novembre 2021 à 20h00 : \n  \nLes déséquilibres thyroïdiens\npar Geneviève ROS\n  \nJustifiant de plus de 30 années d’expérience et passionnée par la santé\, Geneviève Ros\, naturopathe\, infirmière\, iridologue\, enseignante à l’Ecole Plantasanté\, conseillère en allaitement et maternage souhaite nous parler des déséquilibres thyroïdiens et nous donner des éléments incontournables pour prendre soin de sa thyroïde de façon naturelle. \n  \nCLIQUEZ ICI POUR VOUS INSCRIRE\n  \nQuelques jours avant la conférence\, vous recevrez par email un lien de connexion\, ainsi qu’un n° de téléphone pour vous guider si vous deviez rencontrer des difficultés pour vous connecter. \nCette conférence vous est offerte par le Groupe Santé de Colmar.
URL:https://www.groupesantecolmar.net/evenement/les-desequilibres-thyroidiens-par-genevieve-ros/
LOCATION:A distance (Zoom)\, France
END:VEVENT
END:VCALENDAR