BEGIN:VCALENDAR
VERSION:2.0
PRODID:-//Groupe Santé Colmar - ECPv6.15.20//NONSGML v1.0//EN
CALSCALE:GREGORIAN
METHOD:PUBLISH
X-WR-CALNAME:Groupe Santé Colmar
X-ORIGINAL-URL:https://www.groupesantecolmar.net
X-WR-CALDESC:Évènements pour Groupe Santé Colmar
REFRESH-INTERVAL;VALUE=DURATION:PT1H
X-Robots-Tag:noindex
X-PUBLISHED-TTL:PT1H
BEGIN:VTIMEZONE
TZID:Europe/Paris
BEGIN:DAYLIGHT
TZOFFSETFROM:+0100
TZOFFSETTO:+0200
TZNAME:CEST
DTSTART:20240331T010000
END:DAYLIGHT
BEGIN:STANDARD
TZOFFSETFROM:+0200
TZOFFSETTO:+0100
TZNAME:CET
DTSTART:20241027T010000
END:STANDARD
BEGIN:DAYLIGHT
TZOFFSETFROM:+0100
TZOFFSETTO:+0200
TZNAME:CEST
DTSTART:20250330T010000
END:DAYLIGHT
BEGIN:STANDARD
TZOFFSETFROM:+0200
TZOFFSETTO:+0100
TZNAME:CET
DTSTART:20251026T010000
END:STANDARD
BEGIN:DAYLIGHT
TZOFFSETFROM:+0100
TZOFFSETTO:+0200
TZNAME:CEST
DTSTART:20260329T010000
END:DAYLIGHT
BEGIN:STANDARD
TZOFFSETFROM:+0200
TZOFFSETTO:+0100
TZNAME:CET
DTSTART:20261025T010000
END:STANDARD
END:VTIMEZONE
BEGIN:VEVENT
DTSTART;TZID=Europe/Paris:20250425T200000
DTEND;TZID=Europe/Paris:20250425T213000
DTSTAMP:20260420T221908
CREATED:20250225T123937Z
LAST-MODIFIED:20250225T123937Z
UID:6295-1745611200-1745616600@www.groupesantecolmar.net
SUMMARY:Conférence "Retrouver les clés de la Confiance en Soi" par Josiane MEYER
DESCRIPTION:Conférence « Retrouver les clés de\nla Confiance en Soi »\npar Josiane MEYER\nConférence « Retrouver les clés de la Confiance en Soi » par Josiane MEYER. \nLe vendredi 25 avril 2025 à 20h00 à la salle Théodore Monod\, 11 rue Gutenberg 68000 Colmar. \nPar : \n✅ Josiane Meyer est une conférencière et journaliste réputée en Suisse et en France\, particulièrement engagée dans les domaines de la gestion du stress\, du développement personnel et de la communication. Elle a acquis une solide expérience en tant que journaliste\, avant de se tourner vers le coaching et les conférences dans le bien-être\, où elle partage ses expertises avec un large public. \nSes interventions se caractérisent par un mélange de conseils pratiques et de stratégies pédagogiques\, visant à aider les individus à mieux gérer leurs émotions et à améliorer leur quotidien\, tant sur le plan personnel que professionnel. Elle intervient fréquemment sur des thématiques telles que l’optimisation du bien-être\, la gestion des relations interpersonnelles\, ainsi que l’approfondissement de la compréhension de soi. \nJosiane Meyer est connue pour sa capacité à rendre ces sujets accessibles et concrets\, tout en utilisant un langage clair et bienveillant. Ses conférences ludiques et dynamiques\, attirent des publics variés\, allant des professionnels en quête de performance à des particuliers désireux de trouver plus de sérénité dans leur vie quotidienne. \nEntrée : \n\n5 € pour les adhérents\n10 € pour les non adhérents\n\n💡 10 billets sont offerts pour cette conférence par la Radio RCU https://radiorcu.fr/?page=partenaires.html
URL:https://www.groupesantecolmar.net/evenement/conference-retrouver-les-cles-de-la-confiance-en-soi-par-josiane-meyer/
LOCATION:Centre Théodore MONOD\, 11 Rue Gutenberg\, Colmar\, 68000\, France
CATEGORIES:Conférences
END:VEVENT
END:VCALENDAR