BEGIN:VCALENDAR
VERSION:2.0
PRODID:-//Groupe Santé Colmar - ECPv6.15.20//NONSGML v1.0//EN
CALSCALE:GREGORIAN
METHOD:PUBLISH
X-WR-CALNAME:Groupe Santé Colmar
X-ORIGINAL-URL:https://www.groupesantecolmar.net
X-WR-CALDESC:Évènements pour Groupe Santé Colmar
REFRESH-INTERVAL;VALUE=DURATION:PT1H
X-Robots-Tag:noindex
X-PUBLISHED-TTL:PT1H
BEGIN:VTIMEZONE
TZID:Europe/Paris
BEGIN:DAYLIGHT
TZOFFSETFROM:+0100
TZOFFSETTO:+0200
TZNAME:CEST
DTSTART:20240331T010000
END:DAYLIGHT
BEGIN:STANDARD
TZOFFSETFROM:+0200
TZOFFSETTO:+0100
TZNAME:CET
DTSTART:20241027T010000
END:STANDARD
BEGIN:DAYLIGHT
TZOFFSETFROM:+0100
TZOFFSETTO:+0200
TZNAME:CEST
DTSTART:20250330T010000
END:DAYLIGHT
BEGIN:STANDARD
TZOFFSETFROM:+0200
TZOFFSETTO:+0100
TZNAME:CET
DTSTART:20251026T010000
END:STANDARD
BEGIN:DAYLIGHT
TZOFFSETFROM:+0100
TZOFFSETTO:+0200
TZNAME:CEST
DTSTART:20260329T010000
END:DAYLIGHT
BEGIN:STANDARD
TZOFFSETFROM:+0200
TZOFFSETTO:+0100
TZNAME:CET
DTSTART:20261025T010000
END:STANDARD
END:VTIMEZONE
BEGIN:VEVENT
DTSTART;TZID=Europe/Paris:20250926T200000
DTEND;TZID=Europe/Paris:20250926T213000
DTSTAMP:20260421T033302
CREATED:20250828T082141Z
LAST-MODIFIED:20250828T082141Z
UID:6311-1758916800-1758922200@www.groupesantecolmar.net
SUMMARY:Conférence "L’orthophonie : répandue mais méconnue" par Karen BALMER-HICKENBICK
DESCRIPTION:Conférence « L’orthophonie : répandue mais méconnue »\npar Karen BALMER-HICKENBICK\nConférence « L’orthophonie : répandue mais méconnue » par Karen BALMER-HICKENBICK. \nLe vendredi 26 septembre 2025 à 20h00 à la salle Théodore Monod\, 11 rue Gutenberg 68000 Colmar. \nOrthophoniste depuis 2008 sur la région Colmarienne\, détentrice d’une licence de psychologie à l’Université Louis Pasteur de Strasbourg en 2003 et Animatrice de Yoga du Rire depuis 2021( Institut Français et International du Yoga du Rire et du Rire Santé). \n« Orthophonie\, vous avez dit ? Ah oui c’est pour ceux qui ne savent pas parler et lire ! Je connais très bien\, car bon nombre d’enfants de mon voisinage vont chez une orthophoniste qui… passe son temps à jouer avec eux pour les aider. Enfin\, je crois\, c’est ce qu’on m’a dit et c’est ce que j’ai vu quand j’ai accompagné mon petit-fils mercredi dernier ! » Voilà un exemple des types de discours et de connaissances populaires répandus sur cette discipline paramédicale\, qui au final\, n’a pas livré tous ses secrets ! \nAu-delà de vous exposer plus en détails cette spécialité\, il me tient à cœur de vous illustrer ma pratique quotidienne afin de vous informer de toute la palette de soins orthophoniques. Peut-être que vous serez surpris et découvrirez alors que l’orthophonie intervient dès la naissance jusqu’à la veille\nparfois du dernier souffle dans des pathologies généralement inattendues. \nC’est essentiel de s’informer efficacement\, quotidiennement pour être mieux averti et ainsi faire des choix en toute Conscience\, car ne dit-on pas aussi que « la santé n’a pas de prix » ? \nEntrée : \n\n5 € pour les adhérents\n10 € pour les non adhérents
URL:https://www.groupesantecolmar.net/evenement/conference-lorthophonie-repandue-mais-meconnue-par-karen-balmer-hickenbick/
LOCATION:Centre Théodore MONOD\, 11 Rue Gutenberg\, Colmar\, 68000\, France
CATEGORIES:Conférences
END:VEVENT
END:VCALENDAR