BEGIN:VCALENDAR
VERSION:2.0
PRODID:-//Groupe Santé Colmar - ECPv6.15.20//NONSGML v1.0//EN
CALSCALE:GREGORIAN
METHOD:PUBLISH
X-ORIGINAL-URL:https://www.groupesantecolmar.net
X-WR-CALDESC:Évènements pour Groupe Santé Colmar
REFRESH-INTERVAL;VALUE=DURATION:PT1H
X-Robots-Tag:noindex
X-PUBLISHED-TTL:PT1H
BEGIN:VTIMEZONE
TZID:Europe/Paris
BEGIN:DAYLIGHT
TZOFFSETFROM:+0100
TZOFFSETTO:+0200
TZNAME:CEST
DTSTART:20240331T010000
END:DAYLIGHT
BEGIN:STANDARD
TZOFFSETFROM:+0200
TZOFFSETTO:+0100
TZNAME:CET
DTSTART:20241027T010000
END:STANDARD
BEGIN:DAYLIGHT
TZOFFSETFROM:+0100
TZOFFSETTO:+0200
TZNAME:CEST
DTSTART:20250330T010000
END:DAYLIGHT
BEGIN:STANDARD
TZOFFSETFROM:+0200
TZOFFSETTO:+0100
TZNAME:CET
DTSTART:20251026T010000
END:STANDARD
BEGIN:DAYLIGHT
TZOFFSETFROM:+0100
TZOFFSETTO:+0200
TZNAME:CEST
DTSTART:20260329T010000
END:DAYLIGHT
BEGIN:STANDARD
TZOFFSETFROM:+0200
TZOFFSETTO:+0100
TZNAME:CET
DTSTART:20261025T010000
END:STANDARD
END:VTIMEZONE
BEGIN:VEVENT
DTSTART;TZID=Europe/Paris:20251128T200000
DTEND;TZID=Europe/Paris:20251128T213000
DTSTAMP:20260421T065247
CREATED:20251105T005302Z
LAST-MODIFIED:20251105T005405Z
UID:6417-1764360000-1764365400@www.groupesantecolmar.net
SUMMARY:Conférence "Psycho-Généalogie" par Dr Jean-Claude FAJEAU
DESCRIPTION:Conférence « Déprogrammation des conflits liés à l’histoire familiale généalogique »\npar Dr Jean-Claude FAJEAU\nConférence de Psycho-Généalogie « Déprogrammation des conflits liés à l’histoire familiale généalogique » par Dr Jean-Claude FAJEAU. \nLe vendredi 28 novembre 2025 à 20h00 à la salle Théodore Monod\, 11 rue Gutenberg 68000 Colmar. \nJean-Claude Fajeau est Docteur en médecine\, diplômé de la Faculté de Médecine de Paris. Il a exercé la médecine chinoise\, l’homéopathie\, la médecine manuelle\, la phytothérapie. Depuis 1997\, il se consacre à la recherche en Psychosomatique et Psycho-Généalogie\, et anime des conférences\, ateliers et formations. Il est l’auteur de plusieurs livres sur le sujet. \nToute maladie est en lien avec un deuil inachevé suite à un drame qui s’est produit parmi nos ancêtres\, dans la généalogie. Ce drame a eu pour conséquence une peur\, qui est à l’origine d’un conflit psychobiologique. Celui-ci va être transmis de génération en génération à certaines personnes lors de leur naissance\, pouvant créer une souffrance physique ou émotionnelle \n  \nEntrée : \n\n5 € pour les adhérents\n10 € pour les non adhérents
URL:https://www.groupesantecolmar.net/evenement/conference-psycho-genealogie-par-dr-jean-claude-fajeau/
LOCATION:Centre Théodore MONOD\, 11 Rue Gutenberg\, Colmar\, 68000\, France
CATEGORIES:Conférences
END:VEVENT
END:VCALENDAR